BEGIN:VCALENDAR
VERSION:2.0
PRODID:-//Kunstrasen - ECPv5.9.1//NONSGML v1.0//EN
CALSCALE:GREGORIAN
METHOD:PUBLISH
X-WR-CALNAME:Kunstrasen
X-ORIGINAL-URL:https://www.kunstrasen-magazin.de
X-WR-CALDESC:Veranstaltungen für Kunstrasen
BEGIN:VTIMEZONE
TZID:Europe/Berlin
BEGIN:DAYLIGHT
TZOFFSETFROM:+0100
TZOFFSETTO:+0200
TZNAME:CEST
DTSTART:20210328T010000
END:DAYLIGHT
BEGIN:STANDARD
TZOFFSETFROM:+0200
TZOFFSETTO:+0100
TZNAME:CET
DTSTART:20211031T010000
END:STANDARD
END:VTIMEZONE
BEGIN:VEVENT
DTSTART;TZID=Europe/Berlin:20210512T200000
DTEND;TZID=Europe/Berlin:20210512T200000
DTSTAMP:20260421T175533
CREATED:20200921T120943Z
LAST-MODIFIED:20200921T121413Z
UID:193-1620849600-1620849600@www.kunstrasen-magazin.de
SUMMARY:Daphne de Luxe
DESCRIPTION:COMEDY IN HÜLLE UND FÜLLE \nViele kennen sie als „Gästin“ und mittlerweile Gastgeberin der „Ladies Night“. Doch auch solo bringt die Entertainerin getreu ihrem Slogan „Comedy in Hülle und Fülle“ auf die Bühne. Die Humoristin überzeugt mit ihrer ganz besonderen Mischung aus amüsanter Unterhaltung\, Selbstironie\, Tiefgang\, Authentizität und berührenden Songs. Sie greift aktuelle gesellschaftliche Themen auf und nimmt sich vor allem selbst nie zu ernst. Diese „Barbie im XL-Format” straft alle Diät- und Fitnessgurus Lügen und beweist\, dass auch eine Frau mit ein paar Kilos zu viel aussehen kann wie ein „de Luxe-Modell”.
URL:https://www.kunstrasen-magazin.de/event/daphne-de-luxe/
LOCATION:KOMÖDIE BIELEFELD
ATTACH;FMTTYPE=image/jpeg:https://www.kunstrasen-magazin.de/wp-content/uploads/2020/09/Daphne-de-LuxecSimona-Bednarek-scaled.jpg
END:VEVENT
END:VCALENDAR