BEGIN:VCALENDAR
VERSION:2.0
PRODID:-//Kunstrasen - ECPv5.9.1//NONSGML v1.0//EN
CALSCALE:GREGORIAN
METHOD:PUBLISH
X-WR-CALNAME:Kunstrasen
X-ORIGINAL-URL:https://www.kunstrasen-magazin.de
X-WR-CALDESC:Veranstaltungen für Kunstrasen
BEGIN:VTIMEZONE
TZID:Europe/Berlin
BEGIN:DAYLIGHT
TZOFFSETFROM:+0100
TZOFFSETTO:+0200
TZNAME:CEST
DTSTART:20240331T010000
END:DAYLIGHT
BEGIN:STANDARD
TZOFFSETFROM:+0200
TZOFFSETTO:+0100
TZNAME:CET
DTSTART:20241027T010000
END:STANDARD
END:VTIMEZONE
BEGIN:VEVENT
DTSTART;TZID=Europe/Berlin:20240314T200000
DTEND;TZID=Europe/Berlin:20240314T200000
DTSTAMP:20260422T195612
CREATED:20230825T125150Z
LAST-MODIFIED:20230825T125150Z
UID:2306-1710446400-1710446400@www.kunstrasen-magazin.de
SUMMARY:BUNT! LIVE MIT PIANO UND STREICHERN
DESCRIPTION:Stefan Gwildis\n„Ich habe mir gesagt\, wenn es nach all dieser Zeit wieder auf die Bühne geht\, dann soll es so richtig BUNT! werden.“ So Stefan Gwildis auf die Frage\, was das Publikum von ihm erwarten darf. Dazu passt sein neues Album – eine bunte Mischung aus Soul\, Funk\, Reggae\, Jazz und sogar einer Ska Nummer.
URL:https://www.kunstrasen-magazin.de/event/bunt-live-mit-piano-und-streichern/
LOCATION:Lokschuppen
ATTACH;FMTTYPE=image/jpeg:https://www.kunstrasen-magazin.de/wp-content/uploads/2023/08/14_Stefan-Gwildis-c-Heimat2050.jpg
END:VEVENT
END:VCALENDAR