BEGIN:VCALENDAR
VERSION:2.0
PRODID:-//Kunstrasen - ECPv5.9.1//NONSGML v1.0//EN
CALSCALE:GREGORIAN
METHOD:PUBLISH
X-WR-CALNAME:Kunstrasen
X-ORIGINAL-URL:https://www.kunstrasen-magazin.de
X-WR-CALDESC:Veranstaltungen für Kunstrasen
BEGIN:VTIMEZONE
TZID:Europe/Berlin
BEGIN:DAYLIGHT
TZOFFSETFROM:+0100
TZOFFSETTO:+0200
TZNAME:CEST
DTSTART:20260329T010000
END:DAYLIGHT
BEGIN:STANDARD
TZOFFSETFROM:+0200
TZOFFSETTO:+0100
TZNAME:CET
DTSTART:20261025T010000
END:STANDARD
END:VTIMEZONE
BEGIN:VEVENT
DTSTART;TZID=Europe/Berlin:20260426T190000
DTEND;TZID=Europe/Berlin:20260426T190000
DTSTAMP:20260420T025054
CREATED:20250825T120351Z
LAST-MODIFIED:20250825T120351Z
UID:3040-1777230000-1777230000@www.kunstrasen-magazin.de
SUMMARY:Brackweder Kulisse
DESCRIPTION:Ein Zimmer\, Küsse\, Bad \nWohnungsnot mach erfinderisch und so lässt sich die strukturliebende Klara darauf ein\, sich ein Zimmer mit dem abgebrannten Dauerstudenten Lars zu teilen. Nachts ist es ihres\, tagsüber schläft er sich dort nach der Nachtschicht in der Kneipe aus. Der Beginn einer charmanten Beziehungskomödie zwischen der verkappten Romantikerin und dem chaotischen Lebenskünstler.
URL:https://www.kunstrasen-magazin.de/event/brackweder-kulisse-2/
LOCATION:Aula der Realschule Brackwede
END:VEVENT
END:VCALENDAR