BEGIN:VCALENDAR
VERSION:2.0
PRODID:-//Kunstrasen - ECPv5.9.1//NONSGML v1.0//EN
CALSCALE:GREGORIAN
METHOD:PUBLISH
X-WR-CALNAME:Kunstrasen
X-ORIGINAL-URL:https://www.kunstrasen-magazin.de
X-WR-CALDESC:Veranstaltungen für Kunstrasen
BEGIN:VTIMEZONE
TZID:Europe/Berlin
BEGIN:DAYLIGHT
TZOFFSETFROM:+0100
TZOFFSETTO:+0200
TZNAME:CEST
DTSTART:20240331T010000
END:DAYLIGHT
BEGIN:STANDARD
TZOFFSETFROM:+0200
TZOFFSETTO:+0100
TZNAME:CET
DTSTART:20241027T010000
END:STANDARD
END:VTIMEZONE
BEGIN:VEVENT
DTSTART;TZID=Europe/Berlin:20241012T200000
DTEND;TZID=Europe/Berlin:20241012T200000
DTSTAMP:20260421T124842
CREATED:20240826T103245Z
LAST-MODIFIED:20240826T103324Z
UID:2526-1728763200-1728763200@www.kunstrasen-magazin.de
SUMMARY:Bodo Wartke
DESCRIPTION:Gerade ist er mit dem eingängigen Hit „Barbaras Rhabarberbar“ der große TikTok Star. Mit seinem fünften Klavierkabarettprogramm bezeugt Bodo Wartke\, dass es möglich ist\, seiner Bühnenkunst treu zu bleiben und zugleich für neue Begegnungen und Einflüsse offen zu sein. Der Sprachjongleur lädt das Publikum sinnend und singend zu einem Perspektivwechsel ein. Sein Programm „Was\, wenn doch?“ bietet mitreißendes Musikkabarett in Reimkultur.
URL:https://www.kunstrasen-magazin.de/event/bodo-wartke-2/
LOCATION:Stadthalle
ATTACH;FMTTYPE=image/jpeg:https://www.kunstrasen-magazin.de/wp-content/uploads/2024/08/12_Bodo-WartkecSebastian-Niehoff-scaled.jpg
END:VEVENT
END:VCALENDAR