BEGIN:VCALENDAR
VERSION:2.0
PRODID:-//Kunstrasen - ECPv5.9.1//NONSGML v1.0//EN
CALSCALE:GREGORIAN
METHOD:PUBLISH
X-WR-CALNAME:Kunstrasen
X-ORIGINAL-URL:https://www.kunstrasen-magazin.de
X-WR-CALDESC:Veranstaltungen für Kunstrasen
BEGIN:VTIMEZONE
TZID:Europe/Berlin
BEGIN:DAYLIGHT
TZOFFSETFROM:+0100
TZOFFSETTO:+0200
TZNAME:CEST
DTSTART:20230326T010000
END:DAYLIGHT
BEGIN:STANDARD
TZOFFSETFROM:+0200
TZOFFSETTO:+0100
TZNAME:CET
DTSTART:20231029T010000
END:STANDARD
END:VTIMEZONE
BEGIN:VEVENT
DTSTART;TZID=Europe/Berlin:20230917T160000
DTEND;TZID=Europe/Berlin:20230917T180000
DTSTAMP:20260420T094829
CREATED:20230824T125111Z
LAST-MODIFIED:20230824T125111Z
UID:2023-1694966400-1694973600@www.kunstrasen-magazin.de
SUMMARY:BIELEFELDER PUPPENSPIELE
DESCRIPTION:Kasper fährt zum Mond\nKasper hat zum Hochzeitstag eine Überraschung vorbereitet. Er will mit seiner Gretel das Auto vom Freund Seppel ausprobieren. Ein Ausflug\, aber wohin? Auf dem Mond ist genug Platz\, also packen sie ihren Picknickkorb und brausen die Milchstraße rauf. Das rasante Kasperabenteuer für alle ab drei Jahren ist eine Jubiläumsveranstaltung zum 75. Bestehen der Bielefelder Puppenspiele.
URL:https://www.kunstrasen-magazin.de/event/bielefelder-puppenspiele/
LOCATION:Bielefelder Puppenspiele in der Skala
END:VEVENT
END:VCALENDAR