BEGIN:VCALENDAR
VERSION:2.0
PRODID:-//Kunstrasen - ECPv5.9.1//NONSGML v1.0//EN
CALSCALE:GREGORIAN
METHOD:PUBLISH
X-WR-CALNAME:Kunstrasen
X-ORIGINAL-URL:https://www.kunstrasen-magazin.de
X-WR-CALDESC:Veranstaltungen für Kunstrasen
BEGIN:VTIMEZONE
TZID:Europe/Berlin
BEGIN:DAYLIGHT
TZOFFSETFROM:+0100
TZOFFSETTO:+0200
TZNAME:CEST
DTSTART:20240331T010000
END:DAYLIGHT
BEGIN:STANDARD
TZOFFSETFROM:+0200
TZOFFSETTO:+0100
TZNAME:CET
DTSTART:20241027T010000
END:STANDARD
END:VTIMEZONE
BEGIN:VEVENT
DTSTART;TZID=Europe/Berlin:20240914T180000
DTEND;TZID=Europe/Berlin:20240914T180000
DTSTAMP:20260420T224959
CREATED:20240826T080316Z
LAST-MODIFIED:20240826T080316Z
UID:2510-1726336800-1726336800@www.kunstrasen-magazin.de
SUMMARY:BBC Last Night of the Proms
DESCRIPTION:Bereits zum sechsten Mal lädt der WDR 3 zum Public Viewing der BBC Last Night of the Proms ein\, die traditionell den krönenden Abschluss des berühmten gleichnamigen Londoner Klassik-Musikfestivals bildet. Vor der Liveübertragung direkt aus der Royal Albert Hall geben die Bielefelder Philharmoniker gemeinsam mit WDR 3 ein ganz besonderes Radiokonzert – mittlerweile selbst eine Tradition mit Kultstatus.
URL:https://www.kunstrasen-magazin.de/event/bbc-last-night-of-the-proms/
LOCATION:Rudolf Oetker Halle
END:VEVENT
END:VCALENDAR