BEGIN:VCALENDAR
VERSION:2.0
PRODID:-//Kunstrasen - ECPv5.9.1//NONSGML v1.0//EN
CALSCALE:GREGORIAN
METHOD:PUBLISH
X-WR-CALNAME:Kunstrasen
X-ORIGINAL-URL:https://www.kunstrasen-magazin.de
X-WR-CALDESC:Veranstaltungen für Kunstrasen
BEGIN:VTIMEZONE
TZID:Europe/Berlin
BEGIN:DAYLIGHT
TZOFFSETFROM:+0100
TZOFFSETTO:+0200
TZNAME:CEST
DTSTART:20210328T010000
END:DAYLIGHT
BEGIN:STANDARD
TZOFFSETFROM:+0200
TZOFFSETTO:+0100
TZNAME:CET
DTSTART:20211031T010000
END:STANDARD
END:VTIMEZONE
BEGIN:VEVENT
DTSTART;TZID=Europe/Berlin:20210122T200000
DTEND;TZID=Europe/Berlin:20210122T200000
DTSTAMP:20260420T192911
CREATED:20200923T094946Z
LAST-MODIFIED:20200923T094946Z
UID:392-1611345600-1611345600@www.kunstrasen-magazin.de
SUMMARY:Annette Postel
DESCRIPTION:ALLES TANGO\, ODER WAS?\nDie vielfach ausgezeichnete Chanteuse\, Musikparodistin und -kabarettistin\, tanzt seit 15 Jahren Tango und holt nun ihr Steckenpferd samt Tango-Tagebuch auf die Bühne. Begleitet von den bekannten Tangoinstrumentalisten Norbert Kotzan und Bobbi Fischer legt Annette Postel augenzwinkernde\, eigene Texte auf argentinische Tangohits – kommentiert von der pfälzischen „Madame de Toilette“. In der ist unschwer ihre bekannte Comedy-Figur Carmen wiederzuerkennen\, die sich mit Witz und Komik Gott und der Welt und den Niederungen der Frau-Mann-Beziehungen widmet.
URL:https://www.kunstrasen-magazin.de/event/annette-postel/
LOCATION:Neue Schmiede
ATTACH;FMTTYPE=image/jpeg:https://www.kunstrasen-magazin.de/wp-content/uploads/2020/09/Plakat-alles-Tango-oder-was-scaled.jpg
END:VEVENT
END:VCALENDAR