BEGIN:VCALENDAR
VERSION:2.0
PRODID:-//Kunstrasen - ECPv5.9.1//NONSGML v1.0//EN
CALSCALE:GREGORIAN
METHOD:PUBLISH
X-WR-CALNAME:Kunstrasen
X-ORIGINAL-URL:https://www.kunstrasen-magazin.de
X-WR-CALDESC:Veranstaltungen für Kunstrasen
BEGIN:VTIMEZONE
TZID:Europe/Berlin
BEGIN:DAYLIGHT
TZOFFSETFROM:+0100
TZOFFSETTO:+0200
TZNAME:CEST
DTSTART:20230326T010000
END:DAYLIGHT
BEGIN:STANDARD
TZOFFSETFROM:+0200
TZOFFSETTO:+0100
TZNAME:CET
DTSTART:20231029T010000
END:STANDARD
END:VTIMEZONE
BEGIN:VEVENT
DTSTART;TZID=Europe/Berlin:20231229T200000
DTEND;TZID=Europe/Berlin:20231229T200000
DTSTAMP:20260420T112544
CREATED:20230825T095859Z
LAST-MODIFIED:20230825T095859Z
UID:2216-1703880000-1703880000@www.kunstrasen-magazin.de
SUMMARY:ALLE JAHRE WIEDER
DESCRIPTION:The Busters\nSie sind Wiederholungstäter und ihr Tour-Stop in Bielefeld im Dezember eine feste Größe. Deutschlands bekannteste Ska-Band The Busters besticht durch ungebremste Spielfreude und ausufernde\, schweißtreibende Konzerte.
URL:https://www.kunstrasen-magazin.de/event/alle-jahre-wieder/
LOCATION:Forum
ATTACH;FMTTYPE=image/jpeg:https://www.kunstrasen-magazin.de/wp-content/uploads/2023/08/29_The-Busters-c-Claus-Geiss-scaled.jpg
END:VEVENT
END:VCALENDAR