BEGIN:VCALENDAR
VERSION:2.0
PRODID:-//Kunstrasen - ECPv5.9.1//NONSGML v1.0//EN
CALSCALE:GREGORIAN
METHOD:PUBLISH
X-WR-CALNAME:Kunstrasen
X-ORIGINAL-URL:https://www.kunstrasen-magazin.de
X-WR-CALDESC:Veranstaltungen für Kunstrasen
BEGIN:VTIMEZONE
TZID:Europe/Berlin
BEGIN:DAYLIGHT
TZOFFSETFROM:+0100
TZOFFSETTO:+0200
TZNAME:CEST
DTSTART:20230326T010000
END:DAYLIGHT
BEGIN:STANDARD
TZOFFSETFROM:+0200
TZOFFSETTO:+0100
TZNAME:CET
DTSTART:20231029T010000
END:STANDARD
END:VTIMEZONE
BEGIN:VEVENT
DTSTART;TZID=Europe/Berlin:20231027T203000
DTEND;TZID=Europe/Berlin:20231027T203000
DTSTAMP:20260420T144440
CREATED:20230822T100132Z
LAST-MODIFIED:20230822T101349Z
UID:1731-1698438600-1698438600@www.kunstrasen-magazin.de
SUMMARY:A.R.K.
DESCRIPTION:MUSIC BY ENDANGERED SPECIES\nDas aktuelle Projekt der drei Bielefelder Musiker Andreas Kaling\, Reinhold Westerheide und Karl Godejohann verbindet klassische Gitarre\, Avantgarde-Saxophon und Multiflex-Schlagzeug auf dem Weg zur „Goldenen Schnittmenge“. Ist Improvisation ansteckend? Ist ein Trio eine gute Ehe? Warum ist Hoffnung grün? A.R.K. stellt Fragen und liefert die Antwort. Das Debüt-Album ’A.R.K. – Music By Endangered Species’\, beim Label JazzHaus Musik erschienen\, erntete begeisterte Kritiken. \n 
URL:https://www.kunstrasen-magazin.de/event/a-r-k/
LOCATION:Bunker Ulmenwall
ATTACH;FMTTYPE=image/jpeg:https://www.kunstrasen-magazin.de/wp-content/uploads/2023/08/A.R.K.cPeter-Wehowsky.jpg
END:VEVENT
END:VCALENDAR