BEGIN:VCALENDAR
VERSION:2.0
PRODID:-//Kunstrasen - ECPv5.9.1//NONSGML v1.0//EN
CALSCALE:GREGORIAN
METHOD:PUBLISH
X-WR-CALNAME:Kunstrasen
X-ORIGINAL-URL:https://www.kunstrasen-magazin.de
X-WR-CALDESC:Veranstaltungen für Kunstrasen
BEGIN:VTIMEZONE
TZID:Europe/Berlin
BEGIN:DAYLIGHT
TZOFFSETFROM:+0100
TZOFFSETTO:+0200
TZNAME:CEST
DTSTART:20240331T010000
END:DAYLIGHT
BEGIN:STANDARD
TZOFFSETFROM:+0200
TZOFFSETTO:+0100
TZNAME:CET
DTSTART:20241027T010000
END:STANDARD
END:VTIMEZONE
BEGIN:VEVENT
DTSTART;TZID=Europe/Berlin:20240318T200000
DTEND;TZID=Europe/Berlin:20240318T200000
DTSTAMP:20260422T144444
CREATED:20230825T125950Z
LAST-MODIFIED:20230825T125950Z
UID:2314-1710792000-1710792000@www.kunstrasen-magazin.de
SUMMARY:6. KAMMERKONZERT
DESCRIPTION:Viviane Hagner & Till Fellner\nDie Violinistin Viviane Hagner präsentiert gemeinsam mit Pianist Till Fellner ein facettenreiches Programm: Franz Schuberts drei Sonaten aus dem Jahr 1816 huldigen Mozarts Violinsonaten mit ihrem ausgewogenen Verhältnis zwischen Violine und Klavier. Umso schöner\, dass Mozart an diesem Abend mit dem Duetto KV 454 auch „selbst“ zu Wort kommt. Doch dabei bleibt‘s nicht. Auch Werke von Ligeti und Brahms sind zu hören.
URL:https://www.kunstrasen-magazin.de/event/6-kammerkonzert/
LOCATION:Rudolf-Oetker-Halle
ATTACH;FMTTYPE=image/jpeg:https://www.kunstrasen-magazin.de/wp-content/uploads/2023/08/18_Viviane_HagnercTim-Koelln-scaled.jpg
END:VEVENT
END:VCALENDAR