BEGIN:VCALENDAR
VERSION:2.0
PRODID:-//Kunstrasen - ECPv5.9.1//NONSGML v1.0//EN
CALSCALE:GREGORIAN
METHOD:PUBLISH
X-WR-CALNAME:Kunstrasen
X-ORIGINAL-URL:https://www.kunstrasen-magazin.de
X-WR-CALDESC:Veranstaltungen für Kunstrasen
BEGIN:VTIMEZONE
TZID:Europe/Berlin
BEGIN:DAYLIGHT
TZOFFSETFROM:+0100
TZOFFSETTO:+0200
TZNAME:CEST
DTSTART:20230326T010000
END:DAYLIGHT
BEGIN:STANDARD
TZOFFSETFROM:+0200
TZOFFSETTO:+0100
TZNAME:CET
DTSTART:20231029T010000
END:STANDARD
END:VTIMEZONE
BEGIN:VEVENT
DTSTART;TZID=Europe/Berlin:20230917T150000
DTEND;TZID=Europe/Berlin:20230917T150000
DTSTAMP:20260420T080505
CREATED:20230822T094800Z
LAST-MODIFIED:20230914T125400Z
UID:1718-1694962800-1694962800@www.kunstrasen-magazin.de
SUMMARY:WELTNACHT
DESCRIPTION:Künstlerinnen aus Westfalen und weltweit\nMit einem ausgesprochen vielfältigen Programm bespielt diese Weltnacht verschiedene Räume der Oetkerhalle. Sarah Alawuru – bekannt durch ihren Erfolg bei „The Voice of Germany” – verbindet Pop mit Jazz und Afro-Elementen. Das Trio Picon entführt die Zuhörer*innen in die facettenreiche Welt der jüdischen Lieder. Minimalistische Jazz-Songs\, intensiv und doch in sich ruhend: Die expressive Stimme von Yumi Ito und die unaufgeregten Jazz-Gitarren-Klänge von Szymon Mika ergänzen sich perfekt. Außerdem treten auf: Luisa Laakmann\, das Trio LUAH sowie die in der Musikszene von São Paulo langjährig sehr aktive brasilianische Schlagzeugerin\, Sängerin\, Komponistin und Produzentin Mariá Portugal. \nDiese Veranstaltung fällt aus. Die bereits erworbenen Karten können zurückgegeben werden.  \n 
URL:https://www.kunstrasen-magazin.de/event/1718/
LOCATION:Rudolf-Oetker-Halle
ATTACH;FMTTYPE=image/png:https://www.kunstrasen-magazin.de/wp-content/uploads/2023/08/Bielefelder-Beiträge-2023-42.png
END:VEVENT
END:VCALENDAR