BEGIN:VCALENDAR
VERSION:2.0
PRODID:-//Kunstrasen - ECPv5.9.1//NONSGML v1.0//EN
CALSCALE:GREGORIAN
METHOD:PUBLISH
X-WR-CALNAME:Kunstrasen
X-ORIGINAL-URL:https://www.kunstrasen-magazin.de
X-WR-CALDESC:Veranstaltungen für Kunstrasen
BEGIN:VTIMEZONE
TZID:Europe/Berlin
BEGIN:DAYLIGHT
TZOFFSETFROM:+0100
TZOFFSETTO:+0200
TZNAME:CEST
DTSTART:20230326T010000
END:DAYLIGHT
BEGIN:STANDARD
TZOFFSETFROM:+0200
TZOFFSETTO:+0100
TZNAME:CET
DTSTART:20231029T010000
END:STANDARD
END:VTIMEZONE
BEGIN:VEVENT
DTSTART;TZID=Europe/Berlin:20230902T193000
DTEND;TZID=Europe/Berlin:20230902T193000
DTSTAMP:20260420T225209
CREATED:20230822T093211Z
LAST-MODIFIED:20230822T095158Z
UID:1712-1693683000-1693683000@www.kunstrasen-magazin.de
SUMMARY:Der festliche Auftakt
DESCRIPTION:Zum 48. Mal wecken die Theater- und Konzertfreunde die Vorfreude auf die Höhepunkte der Saison 2023/24 mit ersten exklusiven Ausschnitten aus dem Programm der neuen Spielzeit. Mit dabei sind Mitglieder der Ensembles und die Bielefelder Philharmoniker. Das Spektrum reicht von Gesang aus Musical und Oper über Tanz bis zu Schauspiel und Konzert. Und es wird spannend: Wer wird für besondere Leistungen auf der Bühne mit dem Theko-Taler ausgezeichnet? \n 
URL:https://www.kunstrasen-magazin.de/event/1712/
LOCATION:RUDOLFOETKER-HALLE
ATTACH;FMTTYPE=image/jpeg:https://www.kunstrasen-magazin.de/wp-content/uploads/2023/08/Festlicher-AuftaktcChristian-R.-Schulz.jpg
END:VEVENT
END:VCALENDAR